BEGIN:VCALENDAR
VERSION:2.0
PRODID:-//NRGPark//Events//EN
CALSCALE:GREGORIAN
METHOD:PUBLISH
BEGIN:VEVENT
UID:69ec934035fd99.88560065@nrgpark.com
DTSTAMP:20260425T101112Z
DTSTART:20261125T010000Z
DTEND:20261124T060000Z
SUMMARY:The R&B Tour with Usher Raymond & Chris Brown
DESCRIPTION:The R&B Tour Starring Usher Raymond & Chris Brown is coming to Reliant Stadium on November 24th!\\n\\n\\n 
LOCATION:NRG Stadium
END:VEVENT
END:VCALENDAR
