BEGIN:VCALENDAR
VERSION:2.0
PRODID:-//NRGPark//Events//EN
CALSCALE:GREGORIAN
METHOD:PUBLISH
BEGIN:VEVENT
UID:69e7a48b171ca1.42138258@nrgpark.com
DTSTAMP:20260421T162339Z
DTSTART:20260131T233000Z
DTEND:20260131T060000Z
SUMMARY:Monster Energy AMA Supercross
DESCRIPTION:EVENT SCHEDULE\\n\\n\\n\\nQualifying – 11:00 A.M.\\n\\n\\n\\nFanFest -11:00 A.M. – 5:00 P.M.\\n\\n\\n\\nOpening Ceremonies – 5:30 P.M.\\n\\n\\n\\n\\n\\n\\n\\nMonster Energy AMA Supercross is back at NRG Stadium this January!\\n\\n\\nSupercross FanFest is the ultimate access pass for an insider’s look as teams prepare\, practice and qualify for the Main Event! Score autographs and photos with your favorite riders\, enjoy special exhibitions\, giveaways and exclusive partner activations from participating sponsors.\\n\\n\\nFanFest tickets must be accompanied by an event ticket. Ages 2 and up require a ticket. Activities vary by location.
LOCATION:NRG Stadium
END:VEVENT
END:VCALENDAR
