BEGIN:VCALENDAR
VERSION:2.0
PRODID:-//NRGPark//Events//EN
CALSCALE:GREGORIAN
METHOD:PUBLISH
BEGIN:VEVENT
UID:69e8062418ef58.17141152@nrgpark.com
DTSTAMP:20260421T232004Z
DTSTART:20260927T050000Z
DTEND:20260927T050000Z
SUMMARY:Karol G: Viajando Por El Mundo Tropitour
DESCRIPTION:This event will be held in NRG Stadium.
LOCATION:NRG Stadium
END:VEVENT
END:VCALENDAR
