BEGIN:VCALENDAR
VERSION:2.0
PRODID:-//NRGPark//Events//EN
CALSCALE:GREGORIAN
METHOD:PUBLISH
BEGIN:VEVENT
UID:69e82889c77aa2.81449754@nrgpark.com
DTSTAMP:20260422T014649Z
DTSTART:20260614T050000Z
DTEND:20260614T050000Z
SUMMARY:2026 FIFA World Cup
DESCRIPTION:Houston Match Schedule\\n\\n\\nJune 14 – Germany vs Curaçao\\n\\n\\nJune 17 – Portugal vs COD/JAM/NCL\\n\\n\\nJune 20 – Netherlands vs UKR/SWE/POL/ALB\\n\\n\\nJune 23 – Portugal vs Uzbekistan\\n\\n\\nJune 26 – Cabo Verde vs Saudi Arabia\\n\\n\\nJune 29 – Round of 32 (1C vs 2F)\\n\\n\\nJuly 4 – Round of 16
LOCATION:NRG Stadium
END:VEVENT
END:VCALENDAR
